BEGIN:VCALENDAR
VERSION:2.0
PRODID:-//DAVE CAHILL | Singer, Songwriter, Producer, Dissident. - ECPv6.15.17.1//NONSGML v1.0//EN
CALSCALE:GREGORIAN
METHOD:PUBLISH
X-ORIGINAL-URL:https://davecahill.com
X-WR-CALDESC:Events for DAVE CAHILL | Singer, Songwriter, Producer, Dissident.
REFRESH-INTERVAL;VALUE=DURATION:PT1H
X-Robots-Tag:noindex
X-PUBLISHED-TTL:PT1H
BEGIN:VTIMEZONE
TZID:America/New_York
BEGIN:DAYLIGHT
TZOFFSETFROM:-0500
TZOFFSETTO:-0400
TZNAME:EDT
DTSTART:20240310T070000
END:DAYLIGHT
BEGIN:STANDARD
TZOFFSETFROM:-0400
TZOFFSETTO:-0500
TZNAME:EST
DTSTART:20241103T060000
END:STANDARD
BEGIN:DAYLIGHT
TZOFFSETFROM:-0500
TZOFFSETTO:-0400
TZNAME:EDT
DTSTART:20250309T070000
END:DAYLIGHT
BEGIN:STANDARD
TZOFFSETFROM:-0400
TZOFFSETTO:-0500
TZNAME:EST
DTSTART:20251102T060000
END:STANDARD
BEGIN:DAYLIGHT
TZOFFSETFROM:-0500
TZOFFSETTO:-0400
TZNAME:EDT
DTSTART:20260308T070000
END:DAYLIGHT
BEGIN:STANDARD
TZOFFSETFROM:-0400
TZOFFSETTO:-0500
TZNAME:EST
DTSTART:20261101T060000
END:STANDARD
END:VTIMEZONE
BEGIN:VEVENT
DTSTART;TZID=America/New_York:20251003T200000
DTEND;TZID=America/New_York:20251003T230000
DTSTAMP:20260421T144533
CREATED:20250926T165537Z
LAST-MODIFIED:20250926T165602Z
UID:72272-1759521600-1759532400@davecahill.com
SUMMARY:Hot4Robot Live at Brook Arts Center Bound Brook\, NJ
DESCRIPTION:Experience an unforgettable night of raw talent\, fresh sounds\, and high-energy performances at Brook Arts Center!\nTicket link: https://onthestage.tickets/show/brook-arts-center/67f087d6554c455cf7e4d5b6/tickets \nBand set times\, each artist has a 45 minute set:\n8:00PM Roshambo\n9:00PM Hot4Robot\n10:00PM Canamara
URL:https://davecahill.com/event/hot4robot-live-at-brook-arts-center-bound-brook-nj/
LOCATION:Brook Arts Center\, 10 Hamilton St\, Bound Brook\, NJ\, 08805
CATEGORIES:Hot4Robot
ATTACH;FMTTYPE=image/jpeg:https://davecahill.com/wp-content/uploads/2025/09/546621398_122256045848194822_3346136548621983335_n.jpg
END:VEVENT
END:VCALENDAR